BEGIN:VCALENDAR
VERSION:2.0
PRODID:-//DHIA - ECPv6.15.17//NONSGML v1.0//EN
CALSCALE:GREGORIAN
METHOD:PUBLISH
X-WR-CALNAME:DHIA
X-ORIGINAL-URL:https://dhia.org
X-WR-CALDESC:Events for DHIA
REFRESH-INTERVAL;VALUE=DURATION:PT1H
X-Robots-Tag:noindex
X-PUBLISHED-TTL:PT1H
BEGIN:VTIMEZONE
TZID:America/Chicago
BEGIN:DAYLIGHT
TZOFFSETFROM:-0600
TZOFFSETTO:-0500
TZNAME:CDT
DTSTART:20210314T080000
END:DAYLIGHT
BEGIN:STANDARD
TZOFFSETFROM:-0500
TZOFFSETTO:-0600
TZNAME:CST
DTSTART:20211107T070000
END:STANDARD
BEGIN:DAYLIGHT
TZOFFSETFROM:-0600
TZOFFSETTO:-0500
TZNAME:CDT
DTSTART:20220313T080000
END:DAYLIGHT
BEGIN:STANDARD
TZOFFSETFROM:-0500
TZOFFSETTO:-0600
TZNAME:CST
DTSTART:20221106T070000
END:STANDARD
BEGIN:DAYLIGHT
TZOFFSETFROM:-0600
TZOFFSETTO:-0500
TZNAME:CDT
DTSTART:20230312T080000
END:DAYLIGHT
BEGIN:STANDARD
TZOFFSETFROM:-0500
TZOFFSETTO:-0600
TZNAME:CST
DTSTART:20231105T070000
END:STANDARD
BEGIN:DAYLIGHT
TZOFFSETFROM:-0600
TZOFFSETTO:-0500
TZNAME:CDT
DTSTART:20240310T080000
END:DAYLIGHT
BEGIN:STANDARD
TZOFFSETFROM:-0500
TZOFFSETTO:-0600
TZNAME:CST
DTSTART:20241103T070000
END:STANDARD
BEGIN:DAYLIGHT
TZOFFSETFROM:-0600
TZOFFSETTO:-0500
TZNAME:CDT
DTSTART:20250309T080000
END:DAYLIGHT
BEGIN:STANDARD
TZOFFSETFROM:-0500
TZOFFSETTO:-0600
TZNAME:CST
DTSTART:20251102T070000
END:STANDARD
BEGIN:DAYLIGHT
TZOFFSETFROM:-0600
TZOFFSETTO:-0500
TZNAME:CDT
DTSTART:20260308T080000
END:DAYLIGHT
BEGIN:STANDARD
TZOFFSETFROM:-0500
TZOFFSETTO:-0600
TZNAME:CST
DTSTART:20261101T070000
END:STANDARD
END:VTIMEZONE
BEGIN:VTIMEZONE
TZID:America/New_York
BEGIN:DAYLIGHT
TZOFFSETFROM:-0500
TZOFFSETTO:-0400
TZNAME:EDT
DTSTART:20210314T070000
END:DAYLIGHT
BEGIN:STANDARD
TZOFFSETFROM:-0400
TZOFFSETTO:-0500
TZNAME:EST
DTSTART:20211107T060000
END:STANDARD
BEGIN:DAYLIGHT
TZOFFSETFROM:-0500
TZOFFSETTO:-0400
TZNAME:EDT
DTSTART:20220313T070000
END:DAYLIGHT
BEGIN:STANDARD
TZOFFSETFROM:-0400
TZOFFSETTO:-0500
TZNAME:EST
DTSTART:20221106T060000
END:STANDARD
BEGIN:DAYLIGHT
TZOFFSETFROM:-0500
TZOFFSETTO:-0400
TZNAME:EDT
DTSTART:20230312T070000
END:DAYLIGHT
BEGIN:STANDARD
TZOFFSETFROM:-0400
TZOFFSETTO:-0500
TZNAME:EST
DTSTART:20231105T060000
END:STANDARD
END:VTIMEZONE
BEGIN:VEVENT
DTSTART;VALUE=DATE:20251009
DTEND;VALUE=DATE:20251010
DTSTAMP:20260420T201001
CREATED:20250827T155458Z
LAST-MODIFIED:20250827T155532Z
UID:1781-1759968000-1760054399@dhia.org
SUMMARY:Regional DHI Managers’ Meeting
DESCRIPTION:A Regional DHI Managers’ Meeting will be held on Thursday\, October 9\, 2025\, after the Midwest Robotic School.  This meeting is designed for field service managers and senior members of your leadership team.  As with the robotic school\, please email Kim Hill (khill@dhia.org) so we can plan for lunch.  If you have questions on the managers’ meeting topics\, please reach out to Jay Mattison (jmattison@dhia.org).
URL:https://dhia.org/event/regional-dhi-managers-meeting/
LOCATION:Kaukauna\, WI
END:VEVENT
BEGIN:VEVENT
DTSTART;VALUE=DATE:20251007
DTEND;VALUE=DATE:20251009
DTSTAMP:20260420T201001
CREATED:20250827T155215Z
LAST-MODIFIED:20250827T155215Z
UID:1777-1759795200-1759967999@dhia.org
SUMMARY:Midwest Robotic Training School
DESCRIPTION:National DHIA and Quality Certification Services is hosting a Midwest Robotic Training School on October 7-8\, 2025 and is open to all DHI field staff and managers.  The school will be held in Kaukauna\, WI\, and hosted by CentralStar Cooperative.  For Tuesday evening\, staff is planning on dinner at the 1919 Tap & Kitchen at Lambeau Field in Green Bay\, WI.  We will also be visiting two robotic dairy operations with those visits arranged by AgSource Cooperative and Eastern WI DHIC.  To aid in planning for space\, meals and training materials\, National DHIA is asking organizations to email a list of attendees (name\, organization and email) to Kim Hill (khill@dhia.org) by Friday\, September 19\, 2025.  There is no limit on attendees or cost for registration and small changes after this deadline are possible.  If you have questions on robot school agenda or topics\, please reach out to Steven Sievert (sjsievert@dhia.org). \nNational DHIA & QCS look forward to seeing you in Kaukauna in early October.
URL:https://dhia.org/event/midwest-robotic-training-school/
LOCATION:Kaukauna\, WI
END:VEVENT
BEGIN:VEVENT
DTSTART;VALUE=DATE:20250908
DTEND;VALUE=DATE:20250910
DTSTAMP:20260420T201001
CREATED:20250206T213617Z
LAST-MODIFIED:20250206T213617Z
UID:1695-1757289600-1757462399@dhia.org
SUMMARY:North American Laboratory Managers Association Meeting (NALMA)
DESCRIPTION:For more information on the September 8-9\, 2025\, North American Laboratory Managers Association Meeting (NALMA) please contact Steven Sievert or Julee O’Reilly.
URL:https://dhia.org/event/north-american-laboratory-managers-association-meeting-nalma/
LOCATION:Bloomington\, MN\, Bloomington\, MN\, United States
END:VEVENT
BEGIN:VEVENT
DTSTART;VALUE=DATE:20250908
DTEND;VALUE=DATE:20250909
DTSTAMP:20260420T201001
CREATED:20250206T213219Z
LAST-MODIFIED:20250206T213219Z
UID:1692-1757289600-1757375999@dhia.org
SUMMARY:Laboratory Advisory Committee Meeting
DESCRIPTION:For more information on the September 8\, 2025\, Laboratory Advisory Committee meeting please contact Steven Sievert.
URL:https://dhia.org/event/laboratory-advisory-committee-meeting/
LOCATION:Bloomington\, MN\, Bloomington\, MN\, United States
END:VEVENT
BEGIN:VEVENT
DTSTART;VALUE=DATE:20250520
DTEND;VALUE=DATE:20250522
DTSTAMP:20260420T201001
CREATED:20250206T212516Z
LAST-MODIFIED:20250206T212812Z
UID:1676-1747699200-1747871999@dhia.org
SUMMARY:QCS Meter Technician Training School
DESCRIPTION:For more information on the May 20-21\, 2025\, QCS Meter Technical Training School (MTTS) please contact Steven Sievert. \nThe 2026 MTTS will be held in the summer at Dairy One Cooperative\, Inc. in Ithaca\, NY. Dates are to be determined.
URL:https://dhia.org/event/qcs-meter-technician-training-school/
LOCATION:Circle H Headquarters\, LLC – Dalhart\, TX\, 3216 US Highway 54\, Dalhart\, TX\, United States
END:VEVENT
BEGIN:VEVENT
DTSTART;VALUE=DATE:20250329
DTEND;VALUE=DATE:20250405
DTSTAMP:20260420T201001
CREATED:20240917T192251Z
LAST-MODIFIED:20240917T192251Z
UID:1617-1743206400-1743811199@dhia.org
SUMMARY:ICAR 2025 – March 29- April 4\, Anand\, India
DESCRIPTION:The next IDF/ISO Analytical Week 2025 will be held in conjunction with the ICAR congress (International Committee for Animal Recording) hosted by the National Dairy Development Board\, in Anand\, India. \nThe week is the annual meeting of the dairy experts that develop the joint program of IDF/ISO for standards for milk and milk products. It is a key meeting to network\, discuss the needs and challenges for the sector\, as well as exchange with the testing manufacturers on the latest developments. \nWhile the business meetings are reserved to members of IDF and ISO\, the symposium is open to all: dairy laboratory managers\, dairy scientists and analytical professionals to network and exchange ideas on the latest developments in analytical solutions and the launching of new initiatives. \nThe symposium will be joint with ICAR\, and present the current joint projects\, as well as standardization activities at the International and Indian level. It will also offer a discussion panel on the challenges and opportunities for harmonization and standardization of analytical methods in the region. \nRegistration and more details should be available on a website by the end of the year.
URL:https://dhia.org/event/icar-2025-march-29-april-4-anand-india/
LOCATION:Anand\, India
END:VEVENT
BEGIN:VEVENT
DTSTART;VALUE=DATE:20250303
DTEND;VALUE=DATE:20250307
DTSTAMP:20260420T201001
CREATED:20240705T142407Z
LAST-MODIFIED:20250207T223721Z
UID:1504-1740960000-1741305599@dhia.org
SUMMARY:NDHIA Leadership Sessions and 60th Annual Business Meeting - March 3-6\, 2025 Nashville\, TN
DESCRIPTION:
URL:https://dhia.org/event/ndhia-leadership-sessions-and-60th-annual-business-meeting-march-3-6-2025-nashville-tn/
LOCATION:Nashville Marriott at Vanderbilt University\, 2555 West End Avenue\, Nashville\, TN\, 37203\, United States
END:VEVENT
BEGIN:VEVENT
DTSTART;VALUE=DATE:20240820
DTEND;VALUE=DATE:20240824
DTSTAMP:20260420T201001
CREATED:20221129T202515Z
LAST-MODIFIED:20240731T165519Z
UID:1265-1724112000-1724457599@dhia.org
SUMMARY:QCS Meter Technician Training School (MTTS) – Hanford\, CA
DESCRIPTION:QCS Meter Technician Training School (MTTS) – Hanford\, CA [hosted by Kings County DHIA]. Please see the event page for more information on the two training sessions.
URL:https://dhia.org/event/qcs-meter-technician-training-school-mtts-hanford-ca/
LOCATION:Hanford\, CA
END:VEVENT
BEGIN:VEVENT
DTSTART;VALUE=DATE:20240304
DTEND;VALUE=DATE:20240307
DTSTAMP:20260420T201001
CREATED:20230725T034846Z
LAST-MODIFIED:20230725T034846Z
UID:1365-1709510400-1709769599@dhia.org
SUMMARY:National DHIA Leadership Sessions and 59th Annual Business Meeting - New Orleans\, LA
DESCRIPTION:
URL:https://dhia.org/event/national-dhia-leadership-sessions-and-59th-annual-business-meeting-new-orleans-la/
LOCATION:Renaissance New Orleans\, 817 Common Street\, New Orleans\, United States
END:VEVENT
BEGIN:VEVENT
DTSTART;VALUE=DATE:20230425
DTEND;VALUE=DATE:20230427
DTSTAMP:20260420T201001
CREATED:20221129T202252Z
LAST-MODIFIED:20230426T191602Z
UID:1261-1682380800-1682553599@dhia.org
SUMMARY:QCS Meter Technician Training School (MTTS) - Jerome & Twin Falls\, ID
DESCRIPTION:QCS Meter Technician Training School (MTTS) – Jerome & Twin Falls\, ID [hosted by Idaho DHIA]
URL:https://dhia.org/event/qcs-meter-technician-training-school-mtts/
LOCATION:Jerome\, Idaho
END:VEVENT
BEGIN:VEVENT
DTSTART;VALUE=DATE:20230307
DTEND;VALUE=DATE:20230308
DTSTAMP:20260420T201001
CREATED:20221129T202034Z
LAST-MODIFIED:20221129T202034Z
UID:1259-1678147200-1678233599@dhia.org
SUMMARY:QCS Field Service Advisory Committee (FSAC) Meeting
DESCRIPTION:QCS Field Service Advisory Committee (FSAC) meeting in conjunction with the 2023 National DHIA Leadership Sessions and 58th Annual Business Meeting\, Sacramento\, CA.
URL:https://dhia.org/event/qcs-field-service-advisory-committee-fsac-meeting/
END:VEVENT
BEGIN:VEVENT
DTSTART;VALUE=DATE:20230306
DTEND;VALUE=DATE:20230309
DTSTAMP:20260420T201001
CREATED:20220720T135023Z
LAST-MODIFIED:20230222T154506Z
UID:1202-1678060800-1678319999@dhia.org
SUMMARY:2023 National DHIA Leadership Sessions and 58th Annual Business Meeting
DESCRIPTION:The NDHIA Leadership Sessions and 58th Annual Business Meeting\nwill be held March 7 & 8\, 2023 (Tuesday and Wednesday).\nThere will be shoulder meetings the days prior to the NDHIA 2023 Leadership Sessions and Annual Meeting. \nClick here for registration and hotel information. \n  \n  \nContinuing the collaborative efforts of National DHIA\nCelebrate the Past\nWork in the Present\nPrepare for the Future
URL:https://dhia.org/event/2023-national-dhia-leadership-sessions-and-58th-annual-business-meeting/
LOCATION:Holiday Inn Sacramento CA\, 300 J Street\, Sacramento\, CA\, United States
END:VEVENT
BEGIN:VEVENT
DTSTART;TZID=America/New_York:20221215T120000
DTEND;TZID=America/New_York:20221215T130000
DTSTAMP:20260420T201001
CREATED:20221129T201557Z
LAST-MODIFIED:20221129T201557Z
UID:1257-1671105600-1671109200@dhia.org
SUMMARY:QCS DHI Laboratory Sector Webinar
DESCRIPTION:Quality Certification Services is inviting laboratory managers\, leads and technicians to a DHI laboratory sector webinar on Zoom on Thursday\, December 15\, 2022 at noon EST (9 a.m. PST). This webinar will last about 45 minutes with an additional 15 minutes for questions and answers from attendees. For more information contact Steven Sievert\, QCS Manager.
URL:https://dhia.org/event/qcs-dhi-laboratory-sector-webinar/
END:VEVENT
BEGIN:VEVENT
DTSTART;VALUE=DATE:20220530
DTEND;VALUE=DATE:20220604
DTSTAMP:20260420T201001
CREATED:20220301T030725Z
LAST-MODIFIED:20220311T193705Z
UID:925-1653868800-1654300799@dhia.org
SUMMARY:2022 ICAR/Interbull Conference
DESCRIPTION:Lactanet\, the Canadian Network for Dairy Excellence\, is honored to be your host for the 2022 ICAR/Interbull Conference. This world-class event will be held in the vibrant and friendly city of Montreal\, in the province of Quebec\, Canada. \nIt will be a unique opportunity to share our expertise\, connect with international collaborators and transform animal agriculture by linking science\, data and farming practices. Visit the Program and Call for Abstracts pages for more details.
URL:https://dhia.org/event/2022-icar-interbull-conference/
END:VEVENT
BEGIN:VEVENT
DTSTART;VALUE=DATE:20220509
DTEND;VALUE=DATE:20220511
DTSTAMP:20260420T201001
CREATED:20220310T232129Z
LAST-MODIFIED:20220310T232208Z
UID:987-1652054400-1652227199@dhia.org
SUMMARY:QCS ELISA Technician Training School
DESCRIPTION:
URL:https://dhia.org/event/qcs-elisa-training-school/
LOCATION:Eastern Lab Services\, Medina\, OH
END:VEVENT
BEGIN:VEVENT
DTSTART;VALUE=DATE:20220221
DTEND;VALUE=DATE:20220225
DTSTAMP:20260420T201001
CREATED:20211219T170136Z
LAST-MODIFIED:20220303T003235Z
UID:547-1645401600-1645747199@dhia.org
SUMMARY:DHI System Leadership Sessions and 57th National DHIA Annual Meeting\, February 21-24\, 2022\, San Antonio\, TX
DESCRIPTION:Visit our 2022 Leadership Sessions and Annual Meeting page for more information.
URL:https://dhia.org/event/national-dhia-57th-annual-meeting-february-21-24-2022-to-be-held-in-san-antonio-tx/
END:VEVENT
END:VCALENDAR